BEGIN:VCALENDAR
VERSION:2.0
PRODID:-//Karma-Balance, Problemlösung an der Wurzel - ECPv6.15.20//NONSGML v1.0//EN
CALSCALE:GREGORIAN
METHOD:PUBLISH
X-ORIGINAL-URL:https://www.bewusstseinszentrum.de
X-WR-CALDESC:Veranstaltungen für Karma-Balance, Problemlösung an der Wurzel
REFRESH-INTERVAL;VALUE=DURATION:PT1H
X-Robots-Tag:noindex
X-PUBLISHED-TTL:PT1H
BEGIN:VTIMEZONE
TZID:Europe/Sofia
BEGIN:DAYLIGHT
TZOFFSETFROM:+0200
TZOFFSETTO:+0300
TZNAME:EEST
DTSTART:20250330T010000
END:DAYLIGHT
BEGIN:STANDARD
TZOFFSETFROM:+0300
TZOFFSETTO:+0200
TZNAME:EET
DTSTART:20251026T010000
END:STANDARD
BEGIN:DAYLIGHT
TZOFFSETFROM:+0200
TZOFFSETTO:+0300
TZNAME:EEST
DTSTART:20260329T010000
END:DAYLIGHT
BEGIN:STANDARD
TZOFFSETFROM:+0300
TZOFFSETTO:+0200
TZNAME:EET
DTSTART:20261025T010000
END:STANDARD
BEGIN:DAYLIGHT
TZOFFSETFROM:+0200
TZOFFSETTO:+0300
TZNAME:EEST
DTSTART:20270328T010000
END:DAYLIGHT
BEGIN:STANDARD
TZOFFSETFROM:+0300
TZOFFSETTO:+0200
TZNAME:EET
DTSTART:20271031T010000
END:STANDARD
END:VTIMEZONE
BEGIN:VTIMEZONE
TZID:Europe/Berlin
BEGIN:DAYLIGHT
TZOFFSETFROM:+0100
TZOFFSETTO:+0200
TZNAME:CEST
DTSTART:20250330T010000
END:DAYLIGHT
BEGIN:STANDARD
TZOFFSETFROM:+0200
TZOFFSETTO:+0100
TZNAME:CET
DTSTART:20251026T010000
END:STANDARD
BEGIN:DAYLIGHT
TZOFFSETFROM:+0100
TZOFFSETTO:+0200
TZNAME:CEST
DTSTART:20260329T010000
END:DAYLIGHT
BEGIN:STANDARD
TZOFFSETFROM:+0200
TZOFFSETTO:+0100
TZNAME:CET
DTSTART:20261025T010000
END:STANDARD
BEGIN:DAYLIGHT
TZOFFSETFROM:+0100
TZOFFSETTO:+0200
TZNAME:CEST
DTSTART:20270328T010000
END:DAYLIGHT
BEGIN:STANDARD
TZOFFSETFROM:+0200
TZOFFSETTO:+0100
TZNAME:CET
DTSTART:20271031T010000
END:STANDARD
END:VTIMEZONE
BEGIN:VEVENT
DTSTART;TZID=Europe/Sofia:20260420T080000
DTEND;TZID=Europe/Sofia:20260501T170000
DTSTAMP:20260421T053847
CREATED:20260412T112755Z
LAST-MODIFIED:20260412T113607Z
UID:9836-1776672000-1777654800@www.bewusstseinszentrum.de
SUMMARY:Mit Sog statt Druck\, Online-Kongress
DESCRIPTION:Verkaufen fühlt sich oft schwer und nicht stimmig an. Zu viel Druck\, zu viel Erklären – und wenig echtes „Ja“. \nDoch es geht auch anders: ehrlich\, klar und mit Sog statt Druck. \n👉 Genau darum geht es im „Mit Sog statt Druck“ Online-Kongress \n🗓️ 20.04. – 01.05.2026\n🎟️ 100 % kostenfrei \nDas erwartet dich:\n✔️ die richtigen Menschen erreichen\n✔️ Angebote klar positionieren\n✔️ Verkaufsgespräche leicht führen\n✔️ authentisch sichtbar werden \nWenn du spürst\, dass dein Business leichter werden darf: \n👉 Jetzt kostenfrei anmelden und dabei sein!
URL:https://www.bewusstseinszentrum.de/event/mit-sog-statt-druck-online-kongress/
LOCATION:Online
ATTACH;FMTTYPE=image/png:https://www.bewusstseinszentrum.de/wp-content/uploads/2026/04/Sog-Kongress-e1775993761658.png
END:VEVENT
BEGIN:VEVENT
DTSTART;TZID=Europe/Berlin:20260423T180000
DTEND;TZID=Europe/Berlin:20260423T183000
DTSTAMP:20260421T053847
CREATED:20260412T111844Z
LAST-MODIFIED:20260412T111844Z
UID:9832-1776967200-1776969000@www.bewusstseinszentrum.de
SUMMARY:Ausbildung zum eBoost-Professional
DESCRIPTION:Werde eBoost-Professional – Energie\, Kraft & nachhaltiger Erfolg für dich und dein Business und bekomme den Zugang zum Quantenenergiefeld! \nDie Ausbildung zum eBoost-Professional ist eine online Weiterbildung für Menschen\, die mit anderen arbeiten – als Coach\, Therapeut\, Heiler oder Mentor – oder die ihre eigene Energie\, Gesundheit und Wirkkraft massiv steigern möchten. \nIn acht interaktiven Zoom-Abenden lernst du\, wie du\n• dein Energie-Level dauerhaft steigerst\,\n• blockierende Muster auflöst und\n• Energie praktisch in deinem Leben und deiner Arbeit nutzt. \nDu bekommst fundiertes Wissen\, praktische Anwendungstechniken und das kraftvolle eBoost-System direkt an die Hand – begleitet von erfahrenen Lehrinhalten und Tools\, die dich auf allen Ebenen unterstützen. \n👉 Sichere dir jetzt einen der letzten freien Plätze zur eBoost-Professional Ausbildung!
URL:https://www.bewusstseinszentrum.de/event/ausbildung-zum-eboost-professional-2/
LOCATION:Online
ATTACH;FMTTYPE=image/png:https://www.bewusstseinszentrum.de/wp-content/uploads/2024/08/eBoost-KI-5-e1725361334215.png
END:VEVENT
END:VCALENDAR