BEGIN:VCALENDAR
VERSION:2.0
PRODID:-//Karma-Balance, Problemlösung an der Wurzel - ECPv6.15.20//NONSGML v1.0//EN
CALSCALE:GREGORIAN
METHOD:PUBLISH
X-ORIGINAL-URL:https://www.bewusstseinszentrum.de
X-WR-CALDESC:Veranstaltungen für Karma-Balance, Problemlösung an der Wurzel
REFRESH-INTERVAL;VALUE=DURATION:PT1H
X-Robots-Tag:noindex
X-PUBLISHED-TTL:PT1H
BEGIN:VTIMEZONE
TZID:Europe/Sofia
BEGIN:DAYLIGHT
TZOFFSETFROM:+0200
TZOFFSETTO:+0300
TZNAME:EEST
DTSTART:20250330T010000
END:DAYLIGHT
BEGIN:STANDARD
TZOFFSETFROM:+0300
TZOFFSETTO:+0200
TZNAME:EET
DTSTART:20251026T010000
END:STANDARD
BEGIN:DAYLIGHT
TZOFFSETFROM:+0200
TZOFFSETTO:+0300
TZNAME:EEST
DTSTART:20260329T010000
END:DAYLIGHT
BEGIN:STANDARD
TZOFFSETFROM:+0300
TZOFFSETTO:+0200
TZNAME:EET
DTSTART:20261025T010000
END:STANDARD
BEGIN:DAYLIGHT
TZOFFSETFROM:+0200
TZOFFSETTO:+0300
TZNAME:EEST
DTSTART:20270328T010000
END:DAYLIGHT
BEGIN:STANDARD
TZOFFSETFROM:+0300
TZOFFSETTO:+0200
TZNAME:EET
DTSTART:20271031T010000
END:STANDARD
END:VTIMEZONE
BEGIN:VEVENT
DTSTART;TZID=Europe/Sofia:20260306T080000
DTEND;TZID=Europe/Sofia:20260313T170000
DTSTAMP:20260421T071818
CREATED:20260207T125934Z
LAST-MODIFIED:20260207T125934Z
UID:9801-1772784000-1773421200@www.bewusstseinszentrum.de
SUMMARY:Seelenverkörperungs-Symposium
DESCRIPTION:Das Seelenverkörperungs-Symposium vereint über 30 Sprecher aus Bewusstseinsarbeit\, Spiritualität und innerer Führung – mit dem Fokus auf echte Transformation\, gelebte Freiheit und den Ausstieg aus begrenzenden Kreisläufen. \nUnter dem Leitthema:\n„Heilung aus den Kreisläufen der Matrix“ zeigen erfahrene Experten und Wegbegleiter\, wie du deine innere Führung stärkst\, deinen natürlichen Seelenzustand wieder aktivierst und neue Perspektiven für ein erfülltes\, freies Leben gewinnst. \nDich erwarten tiefgehende Gespräche\, persönliche Erfahrungsberichte sowie seltenes Wissen aus alten Mysterienschulen – praxisnah\, inspirierend und bewusstseinserweiternd. \n👉 Mein Interview wird am Dienstag\, den 10.03.2026 ausgestrahlt. \nDie Teilnahme ist kostenfrei. \n👉 Jetzt hier anmelden und dabei sein
URL:https://www.bewusstseinszentrum.de/event/seelenverkoerperungs-symposium-2/
LOCATION:Online
ATTACH;FMTTYPE=image/jpeg:https://www.bewusstseinszentrum.de/wp-content/uploads/2026/02/Seelenverkoerperung-quadrat-e1770469167168.jpg
END:VEVENT
BEGIN:VEVENT
DTSTART;TZID=Europe/Sofia:20260312T080000
DTEND;TZID=Europe/Sofia:20260319T170000
DTSTAMP:20260421T071818
CREATED:20260218T160916Z
LAST-MODIFIED:20260218T160916Z
UID:9812-1773302400-1773939600@www.bewusstseinszentrum.de
SUMMARY:Kapitalkongress
DESCRIPTION:Beim Kapitalkongress zeigen dir über 25 Top-Speaker aus Deutschland & Österreich\, wie du deinen eigenen Weg zu finanzieller Klarheit und Freiheit findest – unabhängig von Trends und Meinungen. \n🎤 Mein Beitrag:\n„Karma\, Geld & Erfolg – wie du innere Blockaden löst und finanziell frei wirst“ \n💡 Themen u. a.:\n• Aktien\, Immobilien\, Edelmetalle & Kryptowährungen\n• Investitionsstrategien & Money Mindset\n• Finanzielle Bildung & echte Entscheidungsfreiheit \n📅 12.–19. März 2026\n🎟 Kostenlose Teilnahme \n👉 Jetzt hier klicken und anmelden – dabei sein!
URL:https://www.bewusstseinszentrum.de/event/kapitalkongress/
LOCATION:Online
ATTACH;FMTTYPE=image/png:https://www.bewusstseinszentrum.de/wp-content/uploads/2026/02/Kapitalkongress-quadrat-e1771430947870.png
END:VEVENT
BEGIN:VEVENT
DTSTART;TZID=Europe/Sofia:20260330T180000
DTEND;TZID=Europe/Sofia:20260330T203000
DTSTAMP:20260421T071818
CREATED:20260127T091644Z
LAST-MODIFIED:20260131T125856Z
UID:9793-1774893600-1774902600@www.bewusstseinszentrum.de
SUMMARY:Ausbildung zum KarmaBalance Therapeuten und Coach
DESCRIPTION:Online-Ausbildung zum KarmaBalance Therapeuten und Coach mit 20 Unterrichtseinheiten.\nLerne\, karmische Lasten zu erkennen\, zu lösen und Menschen (Menschen & Tiere) wirklich zu befreien – mit tiefgehenden Techniken\, energetischer Reinigung und spiritueller Einweihung. \nIn dieser Ausbildung wirst du befähigt\,\n• karmische Blockaden zu lösen\,\n• energetische und seelische Reinigung durchzuführen\,\n• Astralkörper-Reinigung und karmische Auflösung anzuwenden\,\n• und andere in ihre innere Freiheit und Lebensqualität zu begleiten. \nSie richtet sich an Menschen\, die ihr Leben und ihr Wirken auf die nächste Ebene bringen wollen – z. B. Heiler\, Coaches\, Trainer und Bewusstseins-Begleiter. \nStart ist der 30.03.2026 um 18:00 Uhr \n👉 Jetzt Karma-Therapeut werden
URL:https://www.bewusstseinszentrum.de/event/ausbildung-zum-karmabalance-therapeuten/
LOCATION:Zoom
ATTACH;FMTTYPE=image/png:https://www.bewusstseinszentrum.de/wp-content/uploads/2025/02/Karma-Therapeut-e1738958055695.png
END:VEVENT
END:VCALENDAR