BEGIN:VCALENDAR
VERSION:2.0
PRODID:-//Karma-Balance, Problemlösung an der Wurzel - ECPv6.15.20//NONSGML v1.0//EN
CALSCALE:GREGORIAN
METHOD:PUBLISH
X-ORIGINAL-URL:https://www.bewusstseinszentrum.de
X-WR-CALDESC:Veranstaltungen für Karma-Balance, Problemlösung an der Wurzel
REFRESH-INTERVAL;VALUE=DURATION:PT1H
X-Robots-Tag:noindex
X-PUBLISHED-TTL:PT1H
BEGIN:VTIMEZONE
TZID:Europe/Sofia
BEGIN:DAYLIGHT
TZOFFSETFROM:+0200
TZOFFSETTO:+0300
TZNAME:EEST
DTSTART:20250330T010000
END:DAYLIGHT
BEGIN:STANDARD
TZOFFSETFROM:+0300
TZOFFSETTO:+0200
TZNAME:EET
DTSTART:20251026T010000
END:STANDARD
BEGIN:DAYLIGHT
TZOFFSETFROM:+0200
TZOFFSETTO:+0300
TZNAME:EEST
DTSTART:20260329T010000
END:DAYLIGHT
BEGIN:STANDARD
TZOFFSETFROM:+0300
TZOFFSETTO:+0200
TZNAME:EET
DTSTART:20261025T010000
END:STANDARD
BEGIN:DAYLIGHT
TZOFFSETFROM:+0200
TZOFFSETTO:+0300
TZNAME:EEST
DTSTART:20270328T010000
END:DAYLIGHT
BEGIN:STANDARD
TZOFFSETFROM:+0300
TZOFFSETTO:+0200
TZNAME:EET
DTSTART:20271031T010000
END:STANDARD
END:VTIMEZONE
BEGIN:VEVENT
DTSTART;TZID=Europe/Sofia:20260106T080000
DTEND;TZID=Europe/Sofia:20260117T170000
DTSTAMP:20260423T142808
CREATED:20251205T175326Z
LAST-MODIFIED:20251205T175405Z
UID:9768-1767686400-1768669200@www.bewusstseinszentrum.de
SUMMARY:Freedom Code Kongress
DESCRIPTION:Ein Kongress\, der nicht „noch mehr Wissen“ will\, sondern dich in deine Energie zurückführt.\n📌 Für Menschen\, die spüren\, dass sie für mehr gemacht sind: mehr Freiheit\, mehr Tiefe\, mehr Wahrheit. \nStell dir vor\, dein Alltag wird leichter\, Beziehungen friedlicher\, Business fließender – nicht durch Anstrengung\, sondern durch innere Ausrichtung. \n✨ Über 50 Speaker zeigen\, wie der Freedom Code in Familie\, Körper\, Beziehungen\, Business & Energie wirkt – warm\, verständlich\, menschlich. \n👉 Jetzt hier klicken und kostenlos anmelden \nEin Raum für Eltern\, Visionäre\, Freiheitsliebende & alle\, die nicht länger kämpfen\, sondern fließen wollen.\nWir sehen uns dort? 🌿✨
URL:https://www.bewusstseinszentrum.de/event/freedom-code-kongress/
LOCATION:Online
ATTACH;FMTTYPE=image/jpeg:https://www.bewusstseinszentrum.de/wp-content/uploads/2025/12/Freedom-Codes-quadrat-e1764957238508.jpg
END:VEVENT
BEGIN:VEVENT
DTSTART;TZID=Europe/Sofia:20260113T080000
DTEND;TZID=Europe/Sofia:20260119T170000
DTSTAMP:20260423T142808
CREATED:20260108T082159Z
LAST-MODIFIED:20260108T082159Z
UID:9774-1768291200-1768842000@www.bewusstseinszentrum.de
SUMMARY:Aufwachkongress 2026
DESCRIPTION:Wir leben in einer Zeit\, die uns ruft.\nEine Zeit des Erwachens\, der inneren Klarheit und des Erinnerns daran\, dass wir zur richtigen Zeit am richtigen Ort sind. \nDer Aufwachkongress lädt dich ein\, \n💛 wieder ins Vertrauen zu kommen\n💛 Mut zu schöpfen\n💛 innerlich aufzustehen\n💛 und deinen nächsten Schritt zu gehen – auch wenn er noch nicht sichtbar ist \nWenn du spürst\, dass in dir etwas nach Klarheit\, Kraft und echter Verbindung ruft\, dann bist du hier richtig. \n👉 Hier klicken und anmelden \n16.01.2026 -> mein Interview wird ausgestrahlt\n21.01.2026 10:00 Uhr -> LIVE-Session \nIch freue mich sehr\, wenn wir uns dort begegnen.
URL:https://www.bewusstseinszentrum.de/event/aufwachkongress-2026/
LOCATION:Online
ATTACH;FMTTYPE=image/png:https://www.bewusstseinszentrum.de/wp-content/uploads/2026/01/7Aufwachkongress-quadrat-e1767818225858.png
END:VEVENT
BEGIN:VEVENT
DTSTART;TZID=Europe/Sofia:20260118T080000
DTEND;TZID=Europe/Sofia:20260128T170000
DTSTAMP:20260423T142808
CREATED:20260108T084038Z
LAST-MODIFIED:20260108T084038Z
UID:9778-1768723200-1769619600@www.bewusstseinszentrum.de
SUMMARY:Liebe im Wandel der Zeit
DESCRIPTION:In einer Zeit\, in der vieles schnell und oberflächlich geworden ist\, wächst die Sehnsucht nach echter Verbindung – zu uns selbst\, zu unseren Beziehungen und zum Leben. \nDer Online-Kongress „Liebe im Wandel der Zeit“ lädt dich ein\, Beziehung neu zu denken und dich innerlich neu auszurichten. \n🌟 Weg vom Funktionieren\n🌟 Raus aus alten Mustern\n🌟 Hin zu mehr Bewusstheit\, Tiefe und ehrlicher Verbindung\n🌟 Vom Ich zum Wir \nGemeinsam mit erfahrenen Begleitern\, Coaches und Therapeuten entsteht ein Raum für Heilung\, Wachstum und Erwachen – alltagsnah\, ehrlich und tiefgehend. \nAuch ich bin als Speaker Teil dieses Symposiums und teile in meinem Interview Impulse zur Rückverbindung mit deiner wahren Essenz\, innerer Kraft und schöpferischem Potenzial – als Basis für erfüllte Beziehungen. \n👉 Hier klicken und kostenfrei anmelden \nIch freue mich sehr\, wenn du dabei bist.
URL:https://www.bewusstseinszentrum.de/event/liebe-im-wandel-der-zeit/
LOCATION:Online
ATTACH;FMTTYPE=image/png:https://www.bewusstseinszentrum.de/wp-content/uploads/2026/01/Liebe-im-Wandel-Dragica-Schadegg-cm-5-e1767861631644.png
END:VEVENT
END:VCALENDAR