BEGIN:VCALENDAR
VERSION:2.0
PRODID:-//Karma-Balance, Problemlösung an der Wurzel - ECPv6.15.20//NONSGML v1.0//EN
CALSCALE:GREGORIAN
METHOD:PUBLISH
X-WR-CALNAME:Karma-Balance, Problemlösung an der Wurzel
X-ORIGINAL-URL:https://www.bewusstseinszentrum.de
X-WR-CALDESC:Veranstaltungen für Karma-Balance, Problemlösung an der Wurzel
REFRESH-INTERVAL;VALUE=DURATION:PT1H
X-Robots-Tag:noindex
X-PUBLISHED-TTL:PT1H
BEGIN:VTIMEZONE
TZID:Europe/Berlin
BEGIN:DAYLIGHT
TZOFFSETFROM:+0100
TZOFFSETTO:+0200
TZNAME:CEST
DTSTART:20240331T010000
END:DAYLIGHT
BEGIN:STANDARD
TZOFFSETFROM:+0200
TZOFFSETTO:+0100
TZNAME:CET
DTSTART:20241027T010000
END:STANDARD
BEGIN:DAYLIGHT
TZOFFSETFROM:+0100
TZOFFSETTO:+0200
TZNAME:CEST
DTSTART:20250330T010000
END:DAYLIGHT
BEGIN:STANDARD
TZOFFSETFROM:+0200
TZOFFSETTO:+0100
TZNAME:CET
DTSTART:20251026T010000
END:STANDARD
BEGIN:DAYLIGHT
TZOFFSETFROM:+0100
TZOFFSETTO:+0200
TZNAME:CEST
DTSTART:20260329T010000
END:DAYLIGHT
BEGIN:STANDARD
TZOFFSETFROM:+0200
TZOFFSETTO:+0100
TZNAME:CET
DTSTART:20261025T010000
END:STANDARD
END:VTIMEZONE
BEGIN:VTIMEZONE
TZID:Europe/Sofia
BEGIN:DAYLIGHT
TZOFFSETFROM:+0200
TZOFFSETTO:+0300
TZNAME:EEST
DTSTART:20240331T010000
END:DAYLIGHT
BEGIN:STANDARD
TZOFFSETFROM:+0300
TZOFFSETTO:+0200
TZNAME:EET
DTSTART:20241027T010000
END:STANDARD
BEGIN:DAYLIGHT
TZOFFSETFROM:+0200
TZOFFSETTO:+0300
TZNAME:EEST
DTSTART:20250330T010000
END:DAYLIGHT
BEGIN:STANDARD
TZOFFSETFROM:+0300
TZOFFSETTO:+0200
TZNAME:EET
DTSTART:20251026T010000
END:STANDARD
BEGIN:DAYLIGHT
TZOFFSETFROM:+0200
TZOFFSETTO:+0300
TZNAME:EEST
DTSTART:20260329T010000
END:DAYLIGHT
BEGIN:STANDARD
TZOFFSETFROM:+0300
TZOFFSETTO:+0200
TZNAME:EET
DTSTART:20261025T010000
END:STANDARD
END:VTIMEZONE
BEGIN:VEVENT
DTSTART;TZID=Europe/Berlin:20251003T180000
DTEND;TZID=Europe/Berlin:20251003T193000
DTSTAMP:20260422T220403
CREATED:20250926T194319Z
LAST-MODIFIED:20250927T100728Z
UID:9701-1759514400-1759519800@www.bewusstseinszentrum.de
SUMMARY:Live-Webinar ✨ Karma – Klarheit – Erwachen
DESCRIPTION:Fühlst du dich immer wieder in denselben Mustern gefangen? In diesem kostenfreien 90-minütigen Live-Webinar zeige ich dir\, was Karma wirklich ist\, wie du die unsichtbaren Fäden erkennst und welchen Weg die Karma-Ablösung bietet\, um dich zu befreien und deine Seele klarer zu verkörpern. \nIm Webinar lernst du: \n– Was Karma praktisch bedeutet und warum es dich ausbremst \n– Wie du mit Klarheit die Energien erkennst\, die dich binden \n– Wie KarmaAblösung konkret hilft\, alte Wiederholungen zu lösen \n– Welche Veränderungen möglich sind\, wenn du ins Erwachen gehst \nAußerdem gibt es Raum für persönliche Fragen in einer offenen Q&A-Runde. \nJetzt kostenfrei anmelden: ➤ [Hier kostenfrei anmelden]
URL:https://www.bewusstseinszentrum.de/event/live-webinar-%e2%9c%a8-karma-klarheit-erwachen-2/
LOCATION:Zoom
ATTACH;FMTTYPE=image/png:https://www.bewusstseinszentrum.de/wp-content/uploads/2025/09/Webinar-Karma-quadratisch-e1758915788206.png
END:VEVENT
BEGIN:VEVENT
DTSTART;TZID=Europe/Berlin:20251013T080000
DTEND;TZID=Europe/Berlin:20251019T170000
DTSTAMP:20260422T220403
CREATED:20250916T192027Z
LAST-MODIFIED:20251006T091148Z
UID:9695-1760342400-1760893200@www.bewusstseinszentrum.de
SUMMARY:Geistheiler-Kongress
DESCRIPTION:Im Geistheiler-Kongress 2025 lernst du\, alte Muster loszulassen\, Ängste zu heilen und deinen göttlichen Funken neu zu entfachen. \n-> Mein Interview wird am Mittwoch den 8.10. um 12:00 Uhr ausgestrahlt! \nDoch Transformation geschieht erst\, wenn du sie lebst: Ab dem 13.10.2025 führt dich die Transformationswoche tiefer in dein Erwachen. \n ✨ Gelebte Praxis statt bloßer Theorie\n ✨ Heilung und Meditation für Herz und Seele\n ✨ Eine lebendige Gemeinschaft über die Heilungswege-App \nKlicke hier um dich anzumelden!
URL:https://www.bewusstseinszentrum.de/event/geistheiler-kongress/
LOCATION:Online
ATTACH;FMTTYPE=image/jpeg:https://www.bewusstseinszentrum.de/wp-content/uploads/2025/09/Geistheilerkongress-e1758050412913.jpeg
END:VEVENT
BEGIN:VEVENT
DTSTART;TZID=Europe/Berlin:20251016T180000
DTEND;TZID=Europe/Berlin:20251016T180000
DTSTAMP:20260422T220403
CREATED:20251006T091732Z
LAST-MODIFIED:20251006T091937Z
UID:9717-1760637600-1760637600@www.bewusstseinszentrum.de
SUMMARY:Live Workshop - Transformationswoche!
DESCRIPTION:Am Donnerstag den 16.10. um 18:00 Uhr bin ich live für dich da – mit meinem live Workshop\, der dich tief in dein eigenes Energiefeld führt und dir zeigt\, wie Heilung wirklich geschehen darf. \nTransformation geschieht erst\, wenn du sie lebst: die Transformationswoche führt dich tiefer in dein Erwachen. \n✨ Gelebte Praxis statt bloßer Theorie\n✨ Heilung und Meditation für Herz und Seele\n✨ Eine lebendige Gemeinschaft über die Heilungswege-App \nKlicke hier um dich anzumelden!
URL:https://www.bewusstseinszentrum.de/event/live-workshop-transformationswoche/
LOCATION:Online
ATTACH;FMTTYPE=image/jpeg:https://www.bewusstseinszentrum.de/wp-content/uploads/2025/09/Geistheilerkongress-e1758050412913.jpeg
END:VEVENT
BEGIN:VEVENT
DTSTART;TZID=Europe/Berlin:20251017T080000
DTEND;TZID=Europe/Berlin:20251024T170000
DTSTAMP:20260422T220403
CREATED:20251002T195259Z
LAST-MODIFIED:20251015T171928Z
UID:9710-1760688000-1761325200@www.bewusstseinszentrum.de
SUMMARY:Selbsterkenntnis Online Retreat
DESCRIPTION:Ich freue mich\, Teil dieses besonderen Retreats zu sein.\nIn meinem Interview teile ich mit dir:\n\n✨ mein eigenes Erwachen und berührende Erlebnisse\n✨ tiefere Einsichten über Karma und innere Freiheit\n✨ warum Karma-Balance so kraftvoll wirkt\n✨ Selbsterkenntnis als Schlüssel zur Heilung\n✨ und wie du dich mit deinem wahren Wesen verbinden kannst\n\n➡️ Jetzt kostenfrei anmelden\n\nIch freue mich\, wenn du dabei bist – für Erkenntnis\, Erinnerung und echte Veränderung. 🌿
URL:https://www.bewusstseinszentrum.de/event/selbsterkenntnis-online-retreat/
LOCATION:Online
ATTACH;FMTTYPE=image/png:https://www.bewusstseinszentrum.de/wp-content/uploads/2025/10/Dragica-Schadegg-Quadr-e1759434770568.png
END:VEVENT
BEGIN:VEVENT
DTSTART;TZID=Europe/Sofia:20251028T080000
DTEND;TZID=Europe/Sofia:20251108T170000
DTSTAMP:20260422T220403
CREATED:20251022T171636Z
LAST-MODIFIED:20251022T171636Z
UID:9732-1761638400-1762621200@www.bewusstseinszentrum.de
SUMMARY:NetzwerkGold Summit 2025
DESCRIPTION:28. Oktober – 8. November 2025 | Online & kostenfrei \nErlebe zwölf Tage voller Inspiration\, Wachstum und echter Begegnung!\nÜber 90 Expertinnen und Experten teilen ihr Wissen in verwschiedenen Themenbereichen – von Business und Sichtbarkeit über KI und Technologie bis hin zu Energie- und Heilarbeit. \n🌟 Hol dir Impulse\, die du sofort umsetzen kannst.\n🌟 Wähle frei\, welche Themen dich ansprechen.\n🌟 Und das alles ohne Kosten\, ohne Anreise\, mit maximaler Wirkung. \nIch selbst bin mit meinem Vortrag dabei – und freue mich\, dich dort zu inspirieren! \n👉 Jetzt kostenfrei anmelden und deinen Platz sichern: Hier klicken!
URL:https://www.bewusstseinszentrum.de/event/netzwerkgold-summit-2025/
LOCATION:Online
ATTACH;FMTTYPE=image/jpeg:https://www.bewusstseinszentrum.de/wp-content/uploads/2025/10/NetzwerkGold-2-Quadrat-e1761153387221.jpg
END:VEVENT
END:VCALENDAR