BEGIN:VCALENDAR
VERSION:2.0
PRODID:-//Karma-Balance, Problemlösung an der Wurzel - ECPv6.15.20//NONSGML v1.0//EN
CALSCALE:GREGORIAN
METHOD:PUBLISH
X-ORIGINAL-URL:https://www.bewusstseinszentrum.de
X-WR-CALDESC:Veranstaltungen für Karma-Balance, Problemlösung an der Wurzel
REFRESH-INTERVAL;VALUE=DURATION:PT1H
X-Robots-Tag:noindex
X-PUBLISHED-TTL:PT1H
BEGIN:VTIMEZONE
TZID:Europe/Berlin
BEGIN:DAYLIGHT
TZOFFSETFROM:+0100
TZOFFSETTO:+0200
TZNAME:CEST
DTSTART:20240331T010000
END:DAYLIGHT
BEGIN:STANDARD
TZOFFSETFROM:+0200
TZOFFSETTO:+0100
TZNAME:CET
DTSTART:20241027T010000
END:STANDARD
BEGIN:DAYLIGHT
TZOFFSETFROM:+0100
TZOFFSETTO:+0200
TZNAME:CEST
DTSTART:20250330T010000
END:DAYLIGHT
BEGIN:STANDARD
TZOFFSETFROM:+0200
TZOFFSETTO:+0100
TZNAME:CET
DTSTART:20251026T010000
END:STANDARD
BEGIN:DAYLIGHT
TZOFFSETFROM:+0100
TZOFFSETTO:+0200
TZNAME:CEST
DTSTART:20260329T010000
END:DAYLIGHT
BEGIN:STANDARD
TZOFFSETFROM:+0200
TZOFFSETTO:+0100
TZNAME:CET
DTSTART:20261025T010000
END:STANDARD
END:VTIMEZONE
BEGIN:VTIMEZONE
TZID:Europe/Sofia
BEGIN:DAYLIGHT
TZOFFSETFROM:+0200
TZOFFSETTO:+0300
TZNAME:EEST
DTSTART:20240331T010000
END:DAYLIGHT
BEGIN:STANDARD
TZOFFSETFROM:+0300
TZOFFSETTO:+0200
TZNAME:EET
DTSTART:20241027T010000
END:STANDARD
BEGIN:DAYLIGHT
TZOFFSETFROM:+0200
TZOFFSETTO:+0300
TZNAME:EEST
DTSTART:20250330T010000
END:DAYLIGHT
BEGIN:STANDARD
TZOFFSETFROM:+0300
TZOFFSETTO:+0200
TZNAME:EET
DTSTART:20251026T010000
END:STANDARD
BEGIN:DAYLIGHT
TZOFFSETFROM:+0200
TZOFFSETTO:+0300
TZNAME:EEST
DTSTART:20260329T010000
END:DAYLIGHT
BEGIN:STANDARD
TZOFFSETFROM:+0300
TZOFFSETTO:+0200
TZNAME:EET
DTSTART:20261025T010000
END:STANDARD
END:VTIMEZONE
BEGIN:VEVENT
DTSTART;TZID=Europe/Berlin:20250905T080000
DTEND;TZID=Europe/Berlin:20250915T170000
DTSTAMP:20260422T203853
CREATED:20250822T183756Z
LAST-MODIFIED:20250823T144111Z
UID:9596-1757059200-1757955600@www.bewusstseinszentrum.de
SUMMARY:Seelenverkörperungs-Symposium
DESCRIPTION:Seelenverkörperungs-Symposium | 5.–15. September 2025 — kostenfrei \nTauche ein in 11 Tage voller echter Gespräche und Live-Interviews mit über 30 außergewöhnlichen Speaker*innen. Alle Beiträge sind vom 5. bis 15. September 2025 rund um die Uhr in HD-Qualität kostenfrei abrufbar. \nMein persönliches Highlight: Mein Interview läuft am Sonntag\, 7. September — ich teile meine Reise zur Seelenverkörperung und klare\, praktische Wege\, wie du deine Verbindung zur Seele vertiefen kannst. \nFür dich\, wenn du deine Seele tiefer verkörpern\, innere Führung erleben oder dem Ruf nach „mehr“ im Leben folgen möchtest. \nJetzt kostenfrei anmelden
URL:https://www.bewusstseinszentrum.de/event/seelenverkoerperungs-symposium/
LOCATION:Online
ATTACH;FMTTYPE=image/png:https://www.bewusstseinszentrum.de/wp-content/uploads/2025/08/Seelenverkoerperung-e1755960054918.png
END:VEVENT
BEGIN:VEVENT
DTSTART;TZID=Europe/Sofia:20250915T080000
DTEND;TZID=Europe/Sofia:20250926T190000
DTSTAMP:20260422T203853
CREATED:20250908T193434Z
LAST-MODIFIED:20250908T193434Z
UID:9620-1757923200-1758913200@www.bewusstseinszentrum.de
SUMMARY:Welt Mutter Kongress
DESCRIPTION:12 Tage mit Morgenmeditationen\, abendlichen Workshops und über 30 internationalen Speaker:innen. Tägliche Praxis\, Rituale und inspirierende Impulse für Herz\, Heilung und innere Kraft. \nLive mit mir am 17. September um 19:00 zum Thema „Karma Balance“. \nAlle Interviews mit englischen Untertiteln; Teilnehmer:innen erhalten Gutscheine\, Boni und Zugang zum Kongress-Begleiter-Kanal. \nJetzt hier kostenfrei anmelden
URL:https://www.bewusstseinszentrum.de/event/welt-mutter-kongress/
LOCATION:Online
ATTACH;FMTTYPE=image/png:https://www.bewusstseinszentrum.de/wp-content/uploads/2025/09/Weltmutterkongress-e1757359829667.png
END:VEVENT
BEGIN:VEVENT
DTSTART;TZID=Europe/Berlin:20250923T150000
DTEND;TZID=Europe/Berlin:20250923T173000
DTSTAMP:20260422T203853
CREATED:20250914T163333Z
LAST-MODIFIED:20250921T193852Z
UID:9642-1758639600-1758648600@www.bewusstseinszentrum.de
SUMMARY:Live-Webinar ✨ Karma – Klarheit – Erwachen
DESCRIPTION:Fühlst du dich immer wieder in denselben Mustern gefangen? In diesem kostenfreien 90-minütigen Live-Webinar zeige ich dir\, was Karma wirklich ist\, wie du die unsichtbaren Fäden erkennst und welchen Weg die Karma-Ablösung bietet\, um dich zu befreien und deine Seele klarer zu verkörpern. \nIm Webinar lernst du: \n– Was Karma praktisch bedeutet und warum es dich ausbremst \n– Wie du mit Klarheit die Energien erkennst\, die dich binden \n– Wie KarmaAblösung konkret hilft\, alte Wiederholungen zu lösen \n– Welche Veränderungen möglich sind\, wenn du ins Erwachen gehst \nAußerdem gibt es Raum für persönliche Fragen in einer offenen Q&A-Runde. \nJetzt kostenfrei anmelden: ➤ [Hier kostenfrei anmelden]
URL:https://www.bewusstseinszentrum.de/event/live-webinar-%e2%9c%a8-karma-klarheit-erwachen/
LOCATION:Zoom
ATTACH;FMTTYPE=image/jpeg:https://www.bewusstseinszentrum.de/wp-content/uploads/2025/09/Webinar-Karma-–-Klarheit-–-Erwachen-e1757867341213.jpeg
END:VEVENT
BEGIN:VEVENT
DTSTART;TZID=Europe/Berlin:20250926T180000
DTEND;TZID=Europe/Berlin:20250926T180000
DTSTAMP:20260422T203853
CREATED:20240814T133400Z
LAST-MODIFIED:20250802T115935Z
UID:9020-1758909600-1758909600@www.bewusstseinszentrum.de
SUMMARY:Online-Ausbildung zum Karma Balance Therapeuten
DESCRIPTION:Die Ausbildung zum Karma-Therapeuten vermittelt Techniken zur energetischen Reinigung und Befreiung von karmischen Lasten\, um das eigene und das Leben anderer nachhaltig zu transformieren. \nTeilnehmer lernen unter anderem\, karmische Verbindungen zu erkennen und zu lösen\, sowie spirituelle und energetische Heilmethoden anzuwenden.  \nDie Ausbildung richtet sich vor allem an Therapeuten\, Heiler und Coaches\, die ihre Fähigkeiten erweitern möchten. \nMehr Informationen gibt es auf (https://www.bewusstseinszentrum.de/karma-therapeut/).
URL:https://www.bewusstseinszentrum.de/event/online-ausbildung-zum-karma-balance-therapeuten/
LOCATION:Zoom
ATTACH;FMTTYPE=image/png:https://www.bewusstseinszentrum.de/wp-content/uploads/2024/08/Karma-Therapeut-e1728230491127.png
END:VEVENT
END:VCALENDAR