BEGIN:VCALENDAR
VERSION:2.0
PRODID:-//Karma-Balance, Problemlösung an der Wurzel - ECPv6.15.20//NONSGML v1.0//EN
CALSCALE:GREGORIAN
METHOD:PUBLISH
X-ORIGINAL-URL:https://www.bewusstseinszentrum.de
X-WR-CALDESC:Veranstaltungen für Karma-Balance, Problemlösung an der Wurzel
REFRESH-INTERVAL;VALUE=DURATION:PT1H
X-Robots-Tag:noindex
X-PUBLISHED-TTL:PT1H
BEGIN:VTIMEZONE
TZID:Europe/Berlin
BEGIN:DAYLIGHT
TZOFFSETFROM:+0100
TZOFFSETTO:+0200
TZNAME:CEST
DTSTART:20240331T010000
END:DAYLIGHT
BEGIN:STANDARD
TZOFFSETFROM:+0200
TZOFFSETTO:+0100
TZNAME:CET
DTSTART:20241027T010000
END:STANDARD
BEGIN:DAYLIGHT
TZOFFSETFROM:+0100
TZOFFSETTO:+0200
TZNAME:CEST
DTSTART:20250330T010000
END:DAYLIGHT
BEGIN:STANDARD
TZOFFSETFROM:+0200
TZOFFSETTO:+0100
TZNAME:CET
DTSTART:20251026T010000
END:STANDARD
BEGIN:DAYLIGHT
TZOFFSETFROM:+0100
TZOFFSETTO:+0200
TZNAME:CEST
DTSTART:20260329T010000
END:DAYLIGHT
BEGIN:STANDARD
TZOFFSETFROM:+0200
TZOFFSETTO:+0100
TZNAME:CET
DTSTART:20261025T010000
END:STANDARD
END:VTIMEZONE
BEGIN:VTIMEZONE
TZID:Europe/Sofia
BEGIN:DAYLIGHT
TZOFFSETFROM:+0200
TZOFFSETTO:+0300
TZNAME:EEST
DTSTART:20240331T010000
END:DAYLIGHT
BEGIN:STANDARD
TZOFFSETFROM:+0300
TZOFFSETTO:+0200
TZNAME:EET
DTSTART:20241027T010000
END:STANDARD
BEGIN:DAYLIGHT
TZOFFSETFROM:+0200
TZOFFSETTO:+0300
TZNAME:EEST
DTSTART:20250330T010000
END:DAYLIGHT
BEGIN:STANDARD
TZOFFSETFROM:+0300
TZOFFSETTO:+0200
TZNAME:EET
DTSTART:20251026T010000
END:STANDARD
BEGIN:DAYLIGHT
TZOFFSETFROM:+0200
TZOFFSETTO:+0300
TZNAME:EEST
DTSTART:20260329T010000
END:DAYLIGHT
BEGIN:STANDARD
TZOFFSETFROM:+0300
TZOFFSETTO:+0200
TZNAME:EET
DTSTART:20261025T010000
END:STANDARD
END:VTIMEZONE
BEGIN:VEVENT
DTSTART;TZID=Europe/Berlin:20250308T080000
DTEND;TZID=Europe/Berlin:20250316T170000
DTSTAMP:20260422T105422
CREATED:20250212T160044Z
LAST-MODIFIED:20250212T163238Z
UID:9282-1741420800-1742144400@www.bewusstseinszentrum.de
SUMMARY:Liebe & Geld verändern die Welt
DESCRIPTION:Der Kongress „Liebe und Geld verändern die Welt“ von Margarete Florschütz \nVom 8. bis 16. März 2025 bekommst du 9 Tage geballtes Wissen\, Erfahrungen\, & Erkenntnisse über Themen\, wie \nVom Schmerz des Mangels\, Überwindung der Ohnmacht nichts tun zu können zu „Komm in Deine Schöpferkraft“! \nMelde dich jetzt kostenfrei an und finde heraus\, wie du in deine Kraft kommst. \nDu erfährst beim Kongress außerdem… \n– wie Liebe und Geld zusammen passt\n– wie du dir ein erfülltes Leben kreieren kannst\n– ob eine Welt ohne Geld möglich ist\n– die universellen Gesetze des Lebens und des Geldes\n– über die natürlichen Netzwerke des Lebens und des Geldes\n– über Numerologie und wie diese als Bedienungsanleitung des Lebens genutzt werden kann \nDu wirst auch viele Lösungen für Probleme bekommen… \n– wie du Mangel und Schuld überwindest\n– wenn innere Blockaden deinen Erfolg verhindern\n– wie du destruktive\, dir nicht dienliche Glaubenssätze und Muster transformieren kannst\n– wie satanische Verdrehungen in der Gesellschaft zu Verwirrung führen und wie du ihnen entkommst\n– wie gestörtes Urvertrauen und die Auswirkungen von Traumata geheilt werden können\n– welche Auswirkungen destruktiver Geldmangel hat und wie daraus konstruktive Lösungen entstehen können\n– wie karmische Blockaden gelöst werden können\, um in Liebe und Fülle leben zu können \nMelde Dich hier kostenfrei an (hier klicken!) \nWas ist\, bist du dabei?
URL:https://www.bewusstseinszentrum.de/event/liebe-und-geld-veraendern-die-welt/
LOCATION:Zoom
ATTACH;FMTTYPE=image/png:https://www.bewusstseinszentrum.de/wp-content/uploads/2025/01/Liebe-und-Geld-veraendern-die-Welt_200.png
END:VEVENT
BEGIN:VEVENT
DTSTART;TZID=Europe/Berlin:20250312T180000
DTEND;TZID=Europe/Berlin:20250312T190000
DTSTAMP:20260422T105422
CREATED:20250306T131747Z
LAST-MODIFIED:20250306T131747Z
UID:9301-1741802400-1741806000@www.bewusstseinszentrum.de
SUMMARY:💖 AKR-Thema: WERTvolle Partnerschaft 💖
DESCRIPTION:🔍 Erkenne die Hintergründe & löse Blockaden! \nEine erfüllte Partnerschaft basiert auf Verständnis\, Wertschätzung und Bewusstsein. Doch oft stehen uns unbewusste Muster im Weg. In dieser Session entdecken wir: \n✨ Hintergründe & Ursprung von Beziehungsproblemen und wie du sie auflöst\n✨ Verbindungen verstehen – Was bringt euch zusammen? Was trennt euch?\n✨ Perspektivenwechsel – Neue Sichtweisen für mehr Harmonie\n✨ Wertschätzung üben – Wie du deinen Partner bewusst siehst & stärkst \n📅 Wann? 12.03.2025 | 18:00 Uhr\n📍 Wo? Live auf Zoom 🔗 [Hier klicken zur Registrierung und Bezahlung]\n💰 Beitrag: 30 € inkl. eine Woche Aufzeichnung \n🎉 Für Mitglieder der Skool Community ist die Teilnahme kostenlos! Interessiert?  👉🏼 Schau hier: https://www.bewusstseinszentrum.de/skool/ \n🌿 Melde dich an und bring mehr Bewusstsein & Liebe in deine Partnerschaft!
URL:https://www.bewusstseinszentrum.de/event/%f0%9f%92%96-akr-thema-wertvolle-partnerschaft-%f0%9f%92%96/
LOCATION:Zoom
ATTACH;FMTTYPE=image/png:https://www.bewusstseinszentrum.de/wp-content/uploads/2025/03/AKR-WertVolle-Partnerschaft-e1741264179851.png
END:VEVENT
BEGIN:VEVENT
DTSTART;TZID=Europe/Berlin:20250314T180000
DTEND;TZID=Europe/Berlin:20250314T190000
DTSTAMP:20260422T105422
CREATED:20250130T175617Z
LAST-MODIFIED:20250130T181133Z
UID:9240-1741975200-1741978800@www.bewusstseinszentrum.de
SUMMARY:Live Workshop: 💖💰 Liebe & Geld verändern die Welt!
DESCRIPTION:Entdecke\, wie die kraftvolle Verbindung zwischen Liebe und finanzieller Fülle dein Leben transformieren kann. Lerne\, Blockaden zu lösen\, deine Energie zu steigern und dein volles Potenzial zu entfalten. \n✨ Sei dabei und starte deine Veränderung! ✨ \n📅 Wann? 14. März 2025 | 18:00 Uhr\n📍 Wo? Live online auf Zoom \n[Link für die Registrierung folgt noch…]
URL:https://www.bewusstseinszentrum.de/event/live-webinar-14-3-25-liebe-und-geld-veraendern-die-welt/
LOCATION:Zoom
ATTACH;FMTTYPE=image/png:https://www.bewusstseinszentrum.de/wp-content/uploads/2025/01/Liebe-und-Geld-veraendern-die-Welt_200.png
END:VEVENT
BEGIN:VEVENT
DTSTART;TZID=Europe/Sofia:20250330T080000
DTEND;TZID=Europe/Sofia:20250408T170000
DTSTAMP:20260422T105422
CREATED:20250305T140608Z
LAST-MODIFIED:20250305T140608Z
UID:9298-1743321600-1744131600@www.bewusstseinszentrum.de
SUMMARY:Shine your light Summit
DESCRIPTION:✨ Erfahre innere Heilung und sprenge deine Fesseln ✨ \nTauche tief in deine Seele ein und lass los\, was dich daran hindert\, frei zu sein. Deine Vergangenheit ist kein Gefängnis\, sondern das Tor zu deinem inneren Frieden. Heile alte Wunden und entdecke die Kraft\, die bereits in dir steckt! \n🔹 Fühlst du dich oft von alten Mustern oder emotionalen Blockaden gebremst?\n🔹 Möchtest du deine Wunden heilen und dich mit deiner wahren Essenz verbinden?\n🔹 Suchst du nach Wegen\, um deine Selbstheilungskräfte zu aktivieren?\n🔹 Wünschst du dir ein Leben in innerer Ruhe und Balance?\n🔹 Interessiert dich\, wie Ahnenarbeit und energetische Heilung dein Leben transformieren können? \n💖 Wahre Bestimmung\, Seelenplan & Herzensbusiness\nDeine Träume sind kein Zufall – sie sind Wegweiser zu deiner wahren Bestimmung! Finde heraus\, wie du dein Herzensbusiness starten oder transformieren kannst\, um nicht nur erfolgreich\, sondern auch erfüllt zu leben. \n🔹 Möchtest du deine wahre Berufung entdecken und deinem Herzen folgen?\n🔹 Träumst du von einem Business\, das deine Seele nährt und anderen dient?\n🔹 Suchst du Inspiration\, um dein Herzensbusiness auf das nächste Level zu bringen?\n🔹 Willst du erfahren\, wie spirituelle Prinzipien in der Selbstständigkeit helfen können?\n🔹 Wünschst du dir ein Herzensbusiness voller Freude\, Freiheit und Erfüllung? \n💰 Fülle\, Wohlstand & die Energie des Überflusses\nStell dir ein Leben vor\, in dem Fülle keine Ausnahme\, sondern die natürliche Folge deines Denkens und Handelns ist. Lass alte Glaubenssätze los und öffne dich für die Energie von Wohlstand und innerer Erfüllung. \n🔹 Bist du bereit\, deinen Selbstwert anzuerkennen und Fülle in dein Leben einzuladen?\n🔹 Möchtest du dein Mindset nachhaltig positiv verändern?\n🔹 Willst du alte Blockaden rund um Geld und Erfolg auflösen?\n🔹 Suchst du nach Wegen\, Fülle in allen Lebensbereichen zu erschaffen?\n🔹 Wünschst du dir praktische Tipps\, um innere und äußere Fülle in Einklang zu bringen? \n💫 Bist du bereit\, dein Leben auf ein neues Level zu heben? \n📩 Melde dich jetzt an – für deinen Weg zu Heilung\, Erfüllung und Fülle! (hier klicken!)
URL:https://www.bewusstseinszentrum.de/event/shine-your-light-summit/
LOCATION:Zoom
ATTACH;FMTTYPE=image/png:https://www.bewusstseinszentrum.de/wp-content/uploads/2025/03/Shine_your_light_summit-e1741183542182.png
END:VEVENT
END:VCALENDAR