BEGIN:VCALENDAR
VERSION:2.0
PRODID:-//Karma-Balance, Problemlösung an der Wurzel - ECPv6.15.20//NONSGML v1.0//EN
CALSCALE:GREGORIAN
METHOD:PUBLISH
X-ORIGINAL-URL:https://www.bewusstseinszentrum.de
X-WR-CALDESC:Veranstaltungen für Karma-Balance, Problemlösung an der Wurzel
REFRESH-INTERVAL;VALUE=DURATION:PT1H
X-Robots-Tag:noindex
X-PUBLISHED-TTL:PT1H
BEGIN:VTIMEZONE
TZID:Europe/Berlin
BEGIN:DAYLIGHT
TZOFFSETFROM:+0100
TZOFFSETTO:+0200
TZNAME:CEST
DTSTART:20230326T010000
END:DAYLIGHT
BEGIN:STANDARD
TZOFFSETFROM:+0200
TZOFFSETTO:+0100
TZNAME:CET
DTSTART:20231029T010000
END:STANDARD
BEGIN:DAYLIGHT
TZOFFSETFROM:+0100
TZOFFSETTO:+0200
TZNAME:CEST
DTSTART:20240331T010000
END:DAYLIGHT
BEGIN:STANDARD
TZOFFSETFROM:+0200
TZOFFSETTO:+0100
TZNAME:CET
DTSTART:20241027T010000
END:STANDARD
BEGIN:DAYLIGHT
TZOFFSETFROM:+0100
TZOFFSETTO:+0200
TZNAME:CEST
DTSTART:20250330T010000
END:DAYLIGHT
BEGIN:STANDARD
TZOFFSETFROM:+0200
TZOFFSETTO:+0100
TZNAME:CET
DTSTART:20251026T010000
END:STANDARD
END:VTIMEZONE
BEGIN:VEVENT
DTSTART;TZID=Europe/Berlin:20241110T110000
DTEND;TZID=Europe/Berlin:20241110T140000
DTSTAMP:20260422T072709
CREATED:20241023T091212Z
LAST-MODIFIED:20241031T221134Z
UID:9176-1731236400-1731247200@www.bewusstseinszentrum.de
SUMMARY:"Maya - Die Illusion des Lebens durchschauen" - Masterclass
DESCRIPTION:Heilung bedeutet weit mehr\, als nur körperliche oder seelische Krankheiten zu lindern.\n \nEs ist ein Weg des Erkennens – die sanfte Entfaltung dessen\, was du nicht bist\, um dem Raum zu geben\, was du in Wahrheit bist: 👉🏼 das größte Wunder des Universums. 👈🏼\n \nIn dir liegt das grenzenlose Potenzial\, und in jedem Augenblick kann alles für dich möglich werden.\n\n \nSpürst du das Verlangen\, dein Leben noch klarer und präziser zu gestalten? \nDann ist jetzt der perfekte Moment\, tiefer zu gehen. Ich lade dich herzlich ein\, gemeinsam mit mir am \nSonntag\, den 10.11.2024 um 11 Uhr \nan einer exklusiven Masterclass „Maya – Die Illusion des Lebens durchschauen“ teilzunehmen. \nIn dieser Masterclass werde ich mit dir arbeiten und dich durch die Verstrickungen des menschlichen Geistes coachen\, so wie ich es mit meinen Kursteilnehmern mache. \nHier kannst du dich registrieren: Hier klicken! \nWir werden intensiv daran arbeiten\, wie du deine Vision noch konkreter und zielgerichteter in die Realität umsetzen kannst. \nWorum geht es? \n💥 Du erfährst\, wie du tief verwurzelte Ängste und Zweifel auflösen kannst. \n💥 Du lernst\, die Geschichten zu durchschauen\, die du dir bisher erzählt hast\, und wie sie dich zurückhalten. \n💥 Du erkennst\, wie du die Trugbilder und Illusionen leichter durchschaust\, die dich bisher blockieren. \n💥 Du fühlst\, wie du die Wunder der Schöpferkraft in dein Leben bringst und selbst erschaffen kannst. \n💥 Du erkennst\, wie du wirklich aus dem NICHTS erschaffen kannst. \nDamit sich das auch jeder leisten kann\, biete ich diese intensive\, dreistündige Masterclass mit viel Auflösungsarbeit\, Übungen und Meditationen zum Einführungspreis von nur 47 € anstatt 199 €. \nDas ist deine Masterclass\, die Dir den Weg zeigt zu einem Leben voller Erfüllung\, Erfolg\, Freiheit\, Liebe und purer Lebensfreude! \nDiese Masterclass wird dir nicht nur neue Perspektiven eröffnen\, sondern dich auch in die Lage versetzen\, deinen Film – dein Leben – bewusster und positiver zu gestalten. \nSei dabei und finde heraus\, wie du die Illusionen durchschauen und dein Leben zu einem kraftvollen Ausdruck deines wahren Selbst machen kannst. \nHier kannst du dich registrieren: Hier klicken! \nIch freue mich darauf\, gemeinsam mit dir diesen Weg zu gehen und dich in deinem Prozess zu unterstützen.
URL:https://www.bewusstseinszentrum.de/event/maya-die-hueterin-der-illusion-masterclass/
LOCATION:Zoom
ATTACH;FMTTYPE=image/png:https://www.bewusstseinszentrum.de/wp-content/uploads/2024/10/Maya_small-e1730377669883.png
END:VEVENT
BEGIN:VEVENT
DTSTART;TZID=Europe/Berlin:20241111T080000
DTEND;TZID=Europe/Berlin:20241122T200000
DTSTAMP:20260422T072709
CREATED:20240818T165757Z
LAST-MODIFIED:20241025T174629Z
UID:9048-1731312000-1732305600@www.bewusstseinszentrum.de
SUMMARY:Selbstliebe Summit: Glücklichsein - Jetzt!
DESCRIPTION:Sprenge deine Grenzen und l(i)ebe deine Einzigartigkeit \nDieser Summit ist eine Reise in die Tiefe deines Herzens\, auf der du lernst\, dich selbst zu lieben\, dein Selbstwertgefühl zu stärken und dein Leben mit Freude zu gestalten. Komm in deine wahre Kraft\, entfalte dein volles Potential und lebe deinen Traum!  \nKlicke hier und melde dich jetzt kostenfrei zum Selbstliebe Summit von Silke Göbel und Richard Beck an. \nACHTUNG!\nAm. 18. November kannst du zusätzlich ein meinem ebenfalls kostenfreien Workshop zum Thema: „Von Unzufriedenheit zu Selbstliebe und Glück: Dein Weg mit KarmaBalance“ teilnehmen. \nDer Link zur Teilnahme folgt zu gegebener Zeit.
URL:https://www.bewusstseinszentrum.de/event/selbstliebe-summit-gluecklichsein-jetzt/
LOCATION:Zoom
ATTACH;FMTTYPE=image/png:https://www.bewusstseinszentrum.de/wp-content/uploads/2024/08/Selbstliebe-Summit-quadrat-e1729877712892.png
END:VEVENT
BEGIN:VEVENT
DTSTART;TZID=Europe/Berlin:20241117T110000
DTEND;TZID=Europe/Berlin:20241117T120000
DTSTAMP:20260422T072709
CREATED:20241103T110251Z
LAST-MODIFIED:20241103T110251Z
UID:9198-1731841200-1731844800@www.bewusstseinszentrum.de
SUMMARY:Webinar: Die Welt ist ein Spiegel von dir
DESCRIPTION:Hast du das Gefühl\, dass deine äußere Welt dir etwas über dein Inneres zeigt? \nDieses Webinar lädt dich dazu ein\, die Spiegelungen in deinem Leben zu erkennen und zu verstehen. Erfahre\, wie du tief verwurzelte Muster auflösen und eine neue Realität erschaffen kannst\, die deiner wahren Essenz entspricht. \n🌿 Lass uns gemeinsam auf diese Reise der Selbsterkenntnis und Transformation gehen!\n🗓️ Wann: Sonntag\, 17.11.2024\, 11 Uhr\n🔗 Hier anmelden! \nDeine Realität beginnt in dir. Bist du bereit\, hinzuschauen?
URL:https://www.bewusstseinszentrum.de/event/webinar-die-welt-ist-ein-spiegel-von-dir/
LOCATION:Zoom
ATTACH;FMTTYPE=image/png:https://www.bewusstseinszentrum.de/wp-content/uploads/2024/11/Die-Welt-ist-ein-Spiegel-von-dir_1280-e1730631720699.png
END:VEVENT
BEGIN:VEVENT
DTSTART;TZID=Europe/Berlin:20241118T190000
DTEND;TZID=Europe/Berlin:20241118T200000
DTSTAMP:20260422T072709
CREATED:20241025T175154Z
LAST-MODIFIED:20241113T201151Z
UID:9186-1731956400-1731960000@www.bewusstseinszentrum.de
SUMMARY:Selbstliebe Summit - Live Workshop
DESCRIPTION:Thema: Liebe und Selbstliebe im Fokus \nIn einer Welt voller Ablenkungen und äußerer Erwartungen ist es leicht\, den Kontakt zu sich selbst zu verlieren. Doch Liebe beginnt bei uns selbst. \nSelbstliebe bedeutet\, uns vollkommen anzunehmen\, unsere Stärken zu feiern und auch unsere Schwächen mit Milde zu betrachten. Erst wenn wir lernen\, uns selbst wertzuschätzen\, können wir auch anderen authentische Liebe schenken. \nStelle dich selbst in den Fokus\, nähre deine Seele\, finde Freude in deinem Sein und schaffe so eine Grundlage für erfüllte Verbindungen mit Menschen\, die dir wichtig sind. \nDenn nur durch Selbstliebe können wir die Kraft und das Licht entfalten\, die wir uns für unser Leben und unsere Beziehungen wünschen. \nZugang zum Webinar: https://us02web.zoom.us/j/86884952301
URL:https://www.bewusstseinszentrum.de/event/selbstliebe-summit-live-workshop/
LOCATION:Zoom
ATTACH;FMTTYPE=image/png:https://www.bewusstseinszentrum.de/wp-content/uploads/2024/08/Selbstliebe-Summit-workshop-e1729878697812.png
END:VEVENT
BEGIN:VEVENT
DTSTART;TZID=Europe/Berlin:20241120T080000
DTEND;TZID=Europe/Berlin:20241130T200000
DTSTAMP:20260422T072709
CREATED:20240818T165900Z
LAST-MODIFIED:20241010T114615Z
UID:9050-1732089600-1732996800@www.bewusstseinszentrum.de
SUMMARY:Frei Leben Kongress 2
DESCRIPTION:Ab in die Füllematrix! \nViele Menschen haben in den letzten Jahren erlebt\, wie Ihre Freiheit massiv beschnitten wurde. Aus Freude und Leichtigkeit wurde bei vielen Angst und Wut. \nWie können wir diese Entwicklung stoppen und umdrehen? \nDie Antwort auf diese spannende Frage findest du beim Frei Leben Kongress 2! \nHier kannst du dich kostenfrei registrieren. (hier klicken!)
URL:https://www.bewusstseinszentrum.de/event/frei-leben-kongress-2/
LOCATION:Zoom
ATTACH;FMTTYPE=image/png:https://www.bewusstseinszentrum.de/wp-content/uploads/2024/08/Frei-Leben-Kongress-2-Event-e1728560640915.png
END:VEVENT
END:VCALENDAR