BEGIN:VCALENDAR
VERSION:2.0
PRODID:-//Karma-Balance, Problemlösung an der Wurzel - ECPv6.15.20//NONSGML v1.0//EN
CALSCALE:GREGORIAN
METHOD:PUBLISH
X-ORIGINAL-URL:https://www.bewusstseinszentrum.de
X-WR-CALDESC:Veranstaltungen für Karma-Balance, Problemlösung an der Wurzel
REFRESH-INTERVAL;VALUE=DURATION:PT1H
X-Robots-Tag:noindex
X-PUBLISHED-TTL:PT1H
BEGIN:VTIMEZONE
TZID:Europe/Sofia
BEGIN:DAYLIGHT
TZOFFSETFROM:+0200
TZOFFSETTO:+0300
TZNAME:EEST
DTSTART:20250330T010000
END:DAYLIGHT
BEGIN:STANDARD
TZOFFSETFROM:+0300
TZOFFSETTO:+0200
TZNAME:EET
DTSTART:20251026T010000
END:STANDARD
BEGIN:DAYLIGHT
TZOFFSETFROM:+0200
TZOFFSETTO:+0300
TZNAME:EEST
DTSTART:20260329T010000
END:DAYLIGHT
BEGIN:STANDARD
TZOFFSETFROM:+0300
TZOFFSETTO:+0200
TZNAME:EET
DTSTART:20261025T010000
END:STANDARD
BEGIN:DAYLIGHT
TZOFFSETFROM:+0200
TZOFFSETTO:+0300
TZNAME:EEST
DTSTART:20270328T010000
END:DAYLIGHT
BEGIN:STANDARD
TZOFFSETFROM:+0300
TZOFFSETTO:+0200
TZNAME:EET
DTSTART:20271031T010000
END:STANDARD
END:VTIMEZONE
BEGIN:VEVENT
DTSTART;TZID=Europe/Sofia:20260202T080000
DTEND;TZID=Europe/Sofia:20260219T170000
DTSTAMP:20260423T142144
CREATED:20260124T180508Z
LAST-MODIFIED:20260124T180508Z
UID:9785-1770019200-1771520400@www.bewusstseinszentrum.de
SUMMARY:Spirit Kongress 2026
DESCRIPTION:Spürst du die Sehnsucht nach mehr Sinn\, innerer Ruhe und spiritueller Tiefe? \nDer Spirit-Kongress 2026 vereint über 30 Lehrer\, Mentoren und Experten aus Spiritualität\, Bewusstseinsentwicklung und energetischer Heilung unter dem Motto: \n„Durch Spiritualität zur Fülle und Freiheit.“ \nAuch ich bin als Speakerin dabei und teile Impulse für Selbstverwirklichung und bewusstes Leben. \n👉 Jetzt kostenfrei anmelden und dabei sein \nExtra für Newsletter-Abonnenten wartet ein Geschenk – achte bei der Anmeldung auf die „Spirit-leben“-Infografik.
URL:https://www.bewusstseinszentrum.de/event/spirit-kongress-2026/
LOCATION:Online
ATTACH;FMTTYPE=image/png:https://www.bewusstseinszentrum.de/wp-content/uploads/2026/01/Quadratischer-Spirit-Kongress-e1769277899550.png
END:VEVENT
BEGIN:VEVENT
DTSTART;TZID=Europe/Sofia:20260207T080000
DTEND;TZID=Europe/Sofia:20260217T170000
DTSTAMP:20260423T142144
CREATED:20260131T123742Z
LAST-MODIFIED:20260131T123742Z
UID:9796-1770451200-1771347600@www.bewusstseinszentrum.de
SUMMARY:Vermögensaufbau 2026
DESCRIPTION:Der Online-Kongress „Vermögensaufbau 2026 – Inneres und äußeres Vermögen“ begleitet dich vom 7. – 17. Februar 2026 auf deinem Weg zu finanzieller Klarheit und innerer Stärke. \nÜber 25 Speaker:innen teilen offen ihre Erfahrungen und zeigen\, wie innerer Reichtum und äußerer Erfolg zusammenwirken – ehrlich\, praxisnah und inspirierend. \nAuch ich bin mit einem Interview dabei! \n🌟 Am Samstag\, den 7. Februar\, ist mein Beitrag für 24 Stunden kostenfrei abrufbar. \nDu kannst dir jetzt deine Freikarte sichern und kostenlos teilnehmen.\nAlle Interviews werden gemäß Kongressplan jeweils 24 Stunden freigeschaltet. \n👉 Jetzt kostenfrei anmelden \nOptional kannst du dir das komplette Kongress-Paket sichern und alle Inhalte flexibel anschauen – aktuell für 47 €.
URL:https://www.bewusstseinszentrum.de/event/vermoegensaufbau-2026/
LOCATION:Online
ATTACH;FMTTYPE=image/png:https://www.bewusstseinszentrum.de/wp-content/uploads/2026/01/Vermoegensaufbau-quadrat-e1769863054556.png
END:VEVENT
END:VCALENDAR