BEGIN:VCALENDAR
VERSION:2.0
PRODID:-//Karma-Balance, Problemlösung an der Wurzel - ECPv6.15.20//NONSGML v1.0//EN
CALSCALE:GREGORIAN
METHOD:PUBLISH
X-WR-CALNAME:Karma-Balance, Problemlösung an der Wurzel
X-ORIGINAL-URL:https://www.bewusstseinszentrum.de
X-WR-CALDESC:Veranstaltungen für Karma-Balance, Problemlösung an der Wurzel
REFRESH-INTERVAL;VALUE=DURATION:PT1H
X-Robots-Tag:noindex
X-PUBLISHED-TTL:PT1H
BEGIN:VTIMEZONE
TZID:Europe/Sofia
BEGIN:DAYLIGHT
TZOFFSETFROM:+0200
TZOFFSETTO:+0300
TZNAME:EEST
DTSTART:20240331T010000
END:DAYLIGHT
BEGIN:STANDARD
TZOFFSETFROM:+0300
TZOFFSETTO:+0200
TZNAME:EET
DTSTART:20241027T010000
END:STANDARD
BEGIN:DAYLIGHT
TZOFFSETFROM:+0200
TZOFFSETTO:+0300
TZNAME:EEST
DTSTART:20250330T010000
END:DAYLIGHT
BEGIN:STANDARD
TZOFFSETFROM:+0300
TZOFFSETTO:+0200
TZNAME:EET
DTSTART:20251026T010000
END:STANDARD
BEGIN:DAYLIGHT
TZOFFSETFROM:+0200
TZOFFSETTO:+0300
TZNAME:EEST
DTSTART:20260329T010000
END:DAYLIGHT
BEGIN:STANDARD
TZOFFSETFROM:+0300
TZOFFSETTO:+0200
TZNAME:EET
DTSTART:20261025T010000
END:STANDARD
END:VTIMEZONE
BEGIN:VEVENT
DTSTART;TZID=Europe/Sofia:20251208T080000
DTEND;TZID=Europe/Sofia:20251221T170000
DTSTAMP:20260424T134114
CREATED:20251129T174158Z
LAST-MODIFIED:20251129T174158Z
UID:9763-1765180800-1766336400@www.bewusstseinszentrum.de
SUMMARY:Freiheits-Kongress
DESCRIPTION:Immer mehr Menschen wünschen sich Freiheit\, Mut und die Kraft\, ihre Träume wirklich zu leben. In diesem Kongress teilt Gregor Stark zusammen mit über 25 inspirierenden Referenten – darunter Coaches\, Psychologen\, Unternehmer und mutige Visionäre – praktisches Wissen\, tiefgehende Einsichten und kraftvolle Übungen\, um Ängste zu überwinden und innere Stärke zu entwickeln. \nAuch ich bin als Expertin eingeladen und spreche über wahre Freiheit\, Selbstverwirklichung und die Kraft der eigenen Essenz. \nZentrale Fragen des Kongresses: \n– Wie überwinde ich meine Ängste und verlasse meine Komfortzone?\n– Welche Schritte führen mich klar und mutig zu meinen Visionen?\n– Wie entwickle ich inneres Vertrauen und Stärke?\n– Wie entdecke ich meine Einzigartigkeit und lebe sie selbstbestimmt? \nErhalte Zugang zu allen Interviews – inklusive meinen Beitrag – sowie ein exklusives Geschenk für Newsletter-Abonnenten: die „Frei-leben“-Infografik von Gregor Stark. \n-> Jetzt kostenfrei teilnehmen & Geschenk sichern
URL:https://www.bewusstseinszentrum.de/event/freiheits-kongress/
LOCATION:Online
ATTACH;FMTTYPE=image/png:https://www.bewusstseinszentrum.de/wp-content/uploads/2025/11/Freiehts-Kongress-quadratisch-e1764438109227.png
END:VEVENT
END:VCALENDAR