BEGIN:VCALENDAR
VERSION:2.0
PRODID:-//Karma-Balance, Problemlösung an der Wurzel - ECPv6.15.20//NONSGML v1.0//EN
CALSCALE:GREGORIAN
METHOD:PUBLISH
X-WR-CALNAME:Karma-Balance, Problemlösung an der Wurzel
X-ORIGINAL-URL:https://www.bewusstseinszentrum.de
X-WR-CALDESC:Veranstaltungen für Karma-Balance, Problemlösung an der Wurzel
REFRESH-INTERVAL;VALUE=DURATION:PT1H
X-Robots-Tag:noindex
X-PUBLISHED-TTL:PT1H
BEGIN:VTIMEZONE
TZID:Europe/Berlin
BEGIN:DAYLIGHT
TZOFFSETFROM:+0100
TZOFFSETTO:+0200
TZNAME:CEST
DTSTART:20240331T010000
END:DAYLIGHT
BEGIN:STANDARD
TZOFFSETFROM:+0200
TZOFFSETTO:+0100
TZNAME:CET
DTSTART:20241027T010000
END:STANDARD
BEGIN:DAYLIGHT
TZOFFSETFROM:+0100
TZOFFSETTO:+0200
TZNAME:CEST
DTSTART:20250330T010000
END:DAYLIGHT
BEGIN:STANDARD
TZOFFSETFROM:+0200
TZOFFSETTO:+0100
TZNAME:CET
DTSTART:20251026T010000
END:STANDARD
BEGIN:DAYLIGHT
TZOFFSETFROM:+0100
TZOFFSETTO:+0200
TZNAME:CEST
DTSTART:20260329T010000
END:DAYLIGHT
BEGIN:STANDARD
TZOFFSETFROM:+0200
TZOFFSETTO:+0100
TZNAME:CET
DTSTART:20261025T010000
END:STANDARD
END:VTIMEZONE
BEGIN:VEVENT
DTSTART;TZID=Europe/Berlin:20251112T190000
DTEND;TZID=Europe/Berlin:20251112T200000
DTSTAMP:20260424T134734
CREATED:20251106T092938Z
LAST-MODIFIED:20251106T190408Z
UID:9744-1762974000-1762977600@www.bewusstseinszentrum.de
SUMMARY:Live-Webinar: Karmabalance und Feng Shui
DESCRIPTION:Live-Webinar mit Dragica Schadegg & Diana Schlößin am Mittwoch\, 12.11. um 19:00 Uhr \nIn diesem Live-Webinar erfährst du\, wie sich innere Muster\, emotionale Themen und die Energie deiner Räume gegenseitig beeinflussen – und wie du durch bewusstes Harmonisieren mehr Frieden\, Leichtigkeit und Klarheit in dein Leben bringst. \nInhalte:\n• Verbindung von innerer Energie & Wohnraum\n• Aufspüren alter Muster & energetischer Blockaden\n• Inspiration für ein harmonisches Zuhause\n• Raum für deine persönlichen Fragen \nJetzt hier klicken kostenfrei anmelden
URL:https://www.bewusstseinszentrum.de/event/9744/
LOCATION:Online
ATTACH;FMTTYPE=image/png:https://www.bewusstseinszentrum.de/wp-content/uploads/2025/11/KarmaFengShui-e1762421586598.png
END:VEVENT
END:VCALENDAR