BEGIN:VCALENDAR
VERSION:2.0
PRODID:-//Karma-Balance, Problemlösung an der Wurzel - ECPv6.15.20//NONSGML v1.0//EN
CALSCALE:GREGORIAN
METHOD:PUBLISH
X-WR-CALNAME:Karma-Balance, Problemlösung an der Wurzel
X-ORIGINAL-URL:https://www.bewusstseinszentrum.de
X-WR-CALDESC:Veranstaltungen für Karma-Balance, Problemlösung an der Wurzel
REFRESH-INTERVAL;VALUE=DURATION:PT1H
X-Robots-Tag:noindex
X-PUBLISHED-TTL:PT1H
BEGIN:VTIMEZONE
TZID:Europe/Sofia
BEGIN:DAYLIGHT
TZOFFSETFROM:+0200
TZOFFSETTO:+0300
TZNAME:EEST
DTSTART:20240331T010000
END:DAYLIGHT
BEGIN:STANDARD
TZOFFSETFROM:+0300
TZOFFSETTO:+0200
TZNAME:EET
DTSTART:20241027T010000
END:STANDARD
BEGIN:DAYLIGHT
TZOFFSETFROM:+0200
TZOFFSETTO:+0300
TZNAME:EEST
DTSTART:20250330T010000
END:DAYLIGHT
BEGIN:STANDARD
TZOFFSETFROM:+0300
TZOFFSETTO:+0200
TZNAME:EET
DTSTART:20251026T010000
END:STANDARD
BEGIN:DAYLIGHT
TZOFFSETFROM:+0200
TZOFFSETTO:+0300
TZNAME:EEST
DTSTART:20260329T010000
END:DAYLIGHT
BEGIN:STANDARD
TZOFFSETFROM:+0300
TZOFFSETTO:+0200
TZNAME:EET
DTSTART:20261025T010000
END:STANDARD
END:VTIMEZONE
BEGIN:VEVENT
DTSTART;TZID=Europe/Sofia:20250915T080000
DTEND;TZID=Europe/Sofia:20250926T190000
DTSTAMP:20260422T220444
CREATED:20250908T193434Z
LAST-MODIFIED:20250908T193434Z
UID:9620-1757923200-1758913200@www.bewusstseinszentrum.de
SUMMARY:Welt Mutter Kongress
DESCRIPTION:12 Tage mit Morgenmeditationen\, abendlichen Workshops und über 30 internationalen Speaker:innen. Tägliche Praxis\, Rituale und inspirierende Impulse für Herz\, Heilung und innere Kraft. \nLive mit mir am 17. September um 19:00 zum Thema „Karma Balance“. \nAlle Interviews mit englischen Untertiteln; Teilnehmer:innen erhalten Gutscheine\, Boni und Zugang zum Kongress-Begleiter-Kanal. \nJetzt hier kostenfrei anmelden
URL:https://www.bewusstseinszentrum.de/event/welt-mutter-kongress/
LOCATION:Online
ATTACH;FMTTYPE=image/png:https://www.bewusstseinszentrum.de/wp-content/uploads/2025/09/Weltmutterkongress-e1757359829667.png
END:VEVENT
END:VCALENDAR