BEGIN:VCALENDAR
VERSION:2.0
PRODID:-//Karma-Balance, Problemlösung an der Wurzel - ECPv6.15.20//NONSGML v1.0//EN
CALSCALE:GREGORIAN
METHOD:PUBLISH
X-ORIGINAL-URL:https://www.bewusstseinszentrum.de
X-WR-CALDESC:Veranstaltungen für Karma-Balance, Problemlösung an der Wurzel
REFRESH-INTERVAL;VALUE=DURATION:PT1H
X-Robots-Tag:noindex
X-PUBLISHED-TTL:PT1H
BEGIN:VTIMEZONE
TZID:Europe/Berlin
BEGIN:DAYLIGHT
TZOFFSETFROM:+0100
TZOFFSETTO:+0200
TZNAME:CEST
DTSTART:20240331T010000
END:DAYLIGHT
BEGIN:STANDARD
TZOFFSETFROM:+0200
TZOFFSETTO:+0100
TZNAME:CET
DTSTART:20241027T010000
END:STANDARD
BEGIN:DAYLIGHT
TZOFFSETFROM:+0100
TZOFFSETTO:+0200
TZNAME:CEST
DTSTART:20250330T010000
END:DAYLIGHT
BEGIN:STANDARD
TZOFFSETFROM:+0200
TZOFFSETTO:+0100
TZNAME:CET
DTSTART:20251026T010000
END:STANDARD
BEGIN:DAYLIGHT
TZOFFSETFROM:+0100
TZOFFSETTO:+0200
TZNAME:CEST
DTSTART:20260329T010000
END:DAYLIGHT
BEGIN:STANDARD
TZOFFSETFROM:+0200
TZOFFSETTO:+0100
TZNAME:CET
DTSTART:20261025T010000
END:STANDARD
END:VTIMEZONE
BEGIN:VEVENT
DTSTART;TZID=Europe/Berlin:20250630T080000
DTEND;TZID=Europe/Berlin:20250704T180000
DTSTAMP:20260422T173114
CREATED:20250616T163835Z
LAST-MODIFIED:20250616T163835Z
UID:9496-1751270400-1751652000@www.bewusstseinszentrum.de
SUMMARY:Mit Sog statt Druck zu neuen Kunden
DESCRIPTION:Schon gewusst? Es gibt eine Möglichkeit\, dass Deine potenziellen Interessenten auf Dich zukommen. \nJa\, genau! Die kommen auf Dich zu. Mit Sog statt mit Druck. Ohne Nachlaufen\, ohne Bitten und betteln. Und ohne Preiszugeständnisse. \nNeugierig geworden? \nGenau darüber (und vieles mehr) geht es bei „Die bayerischen Vertriebstage“ von Uwe Rieder. \nDer polarisierende Bayer hat die 30 Top-Experten in Sachen Vertrieb alle „auf einen Fleck“ versammelt. Und 5 Tage wird so richtig „Feuer für Deinen Vertrieb“ gemacht.  \nHier kannst du dich kostenfrei registrieren!
URL:https://www.bewusstseinszentrum.de/event/mit-sog-statt-druck-zu-neuen-kunden/
LOCATION:Zoom
ATTACH;FMTTYPE=image/png:https://www.bewusstseinszentrum.de/wp-content/uploads/2025/06/Die-bayerischen-Vertriebstage-JuniJuli-2025-Beitrag-02-Dragica-Schadegg.png
END:VEVENT
END:VCALENDAR