BEGIN:VCALENDAR
VERSION:2.0
PRODID:-//Karma-Balance, Problemlösung an der Wurzel - ECPv6.15.20//NONSGML v1.0//EN
CALSCALE:GREGORIAN
METHOD:PUBLISH
X-ORIGINAL-URL:https://www.bewusstseinszentrum.de
X-WR-CALDESC:Veranstaltungen für Karma-Balance, Problemlösung an der Wurzel
REFRESH-INTERVAL;VALUE=DURATION:PT1H
X-Robots-Tag:noindex
X-PUBLISHED-TTL:PT1H
BEGIN:VTIMEZONE
TZID:Europe/Berlin
BEGIN:DAYLIGHT
TZOFFSETFROM:+0100
TZOFFSETTO:+0200
TZNAME:CEST
DTSTART:20240331T010000
END:DAYLIGHT
BEGIN:STANDARD
TZOFFSETFROM:+0200
TZOFFSETTO:+0100
TZNAME:CET
DTSTART:20241027T010000
END:STANDARD
BEGIN:DAYLIGHT
TZOFFSETFROM:+0100
TZOFFSETTO:+0200
TZNAME:CEST
DTSTART:20250330T010000
END:DAYLIGHT
BEGIN:STANDARD
TZOFFSETFROM:+0200
TZOFFSETTO:+0100
TZNAME:CET
DTSTART:20251026T010000
END:STANDARD
BEGIN:DAYLIGHT
TZOFFSETFROM:+0100
TZOFFSETTO:+0200
TZNAME:CEST
DTSTART:20260329T010000
END:DAYLIGHT
BEGIN:STANDARD
TZOFFSETFROM:+0200
TZOFFSETTO:+0100
TZNAME:CET
DTSTART:20261025T010000
END:STANDARD
END:VTIMEZONE
BEGIN:VEVENT
DTSTART;TZID=Europe/Berlin:20250618T080000
DTEND;TZID=Europe/Berlin:20250621T170000
DTSTAMP:20260422T172941
CREATED:20250615T105039Z
LAST-MODIFIED:20250615T105039Z
UID:9469-1750233600-1750525200@www.bewusstseinszentrum.de
SUMMARY:Netzwerk Gold-Summit für Spiritualität & Achtsamkeit! 🎉
DESCRIPTION:✨ „Erwachen\, Energie & innere Freiheit – Entfalte dein Potenzial auf allen Ebenen“ \nDie ersten kraftvollen Interviews gehen heute online – mit Themen wie: \n\nEnergetische Selbstheilung mit Birgit Isolde Bäcker\nKundalini Energie mit Carolin Limburg\nAusbruch aus dem Goldkäfig mit Christine Hofmann\nUnd viele weitere transformierende Gespräche\n\nMein Interview: Ich bin übrigens auch dabei mit „Heile dein Inneres – und das Leben beginnt zu fließen“ – Ein Raum für Transformation: Dort\, wo Karma endet und dein wahres Leben beginnt! \nDie Teilnahme ist für dich komplett kostenfrei – trag dich einfach hier ein. \nKlicke hier zur Registrierung
URL:https://www.bewusstseinszentrum.de/event/netzwerk-gold-summit-fuer-spiritualitaet-achtsamkeit-%f0%9f%8e%89/
LOCATION:Zoom
ATTACH;FMTTYPE=image/png:https://www.bewusstseinszentrum.de/wp-content/uploads/2025/06/Gold-Event-e1749984625732.png
END:VEVENT
BEGIN:VEVENT
DTSTART;TZID=Europe/Berlin:20250620T170000
DTEND;TZID=Europe/Berlin:20250620T180000
DTSTAMP:20260422T172941
CREATED:20250527T190603Z
LAST-MODIFIED:20250615T103313Z
UID:9387-1750438800-1750442400@www.bewusstseinszentrum.de
SUMMARY:Heile dein Inneres – und das Leben beginnt zu fließen
DESCRIPTION:Ein Gespräch über Karma\, Selbstheilung und den Weg zurück in deine Seelenkraft \nIn dieser Masterclass erfährst du\, warum sich äußere Blockaden oft nur lösen lassen\, wenn du den Mut hast\, nach innen zu schauen – dorthin\, wo die wahren Ursachen liegen. \nDragica Schadegg zeigt\, wie karmische Muster\, alte Verletzungen und energetische Altlasten dein Leben unbewusst steuern – und wie du dich Schritt für Schritt davon befreist. \nDu lernst\, wie du mit der Methode KarmaBalance dein Energiefeld klärst\, deine innere Ausrichtung veränderst und wieder in den natürlichen Fluss deines Lebens findest. Für mehr Leichtigkeit\, Klarheit und gelebte Seelenkraft – in deinem Alltag\, deiner Beziehung und deinem Business. \nKlicke hier zur Registrierung
URL:https://www.bewusstseinszentrum.de/event/heile-dein-inneres-und-das-leben-beginnt-zu-fliessen/
LOCATION:Zoom
ATTACH;FMTTYPE=image/jpeg:https://www.bewusstseinszentrum.de/wp-content/uploads/2025/05/dragica-hand-am-kinn-e1749983579705.jpg
END:VEVENT
END:VCALENDAR