BEGIN:VCALENDAR
VERSION:2.0
PRODID:-//Karma-Balance, Problemlösung an der Wurzel - ECPv6.15.20//NONSGML v1.0//EN
CALSCALE:GREGORIAN
METHOD:PUBLISH
X-ORIGINAL-URL:https://www.bewusstseinszentrum.de
X-WR-CALDESC:Veranstaltungen für Karma-Balance, Problemlösung an der Wurzel
REFRESH-INTERVAL;VALUE=DURATION:PT1H
X-Robots-Tag:noindex
X-PUBLISHED-TTL:PT1H
BEGIN:VTIMEZONE
TZID:Europe/Berlin
BEGIN:DAYLIGHT
TZOFFSETFROM:+0100
TZOFFSETTO:+0200
TZNAME:CEST
DTSTART:20240331T010000
END:DAYLIGHT
BEGIN:STANDARD
TZOFFSETFROM:+0200
TZOFFSETTO:+0100
TZNAME:CET
DTSTART:20241027T010000
END:STANDARD
BEGIN:DAYLIGHT
TZOFFSETFROM:+0100
TZOFFSETTO:+0200
TZNAME:CEST
DTSTART:20250330T010000
END:DAYLIGHT
BEGIN:STANDARD
TZOFFSETFROM:+0200
TZOFFSETTO:+0100
TZNAME:CET
DTSTART:20251026T010000
END:STANDARD
BEGIN:DAYLIGHT
TZOFFSETFROM:+0100
TZOFFSETTO:+0200
TZNAME:CEST
DTSTART:20260329T010000
END:DAYLIGHT
BEGIN:STANDARD
TZOFFSETFROM:+0200
TZOFFSETTO:+0100
TZNAME:CET
DTSTART:20261025T010000
END:STANDARD
END:VTIMEZONE
BEGIN:VEVENT
DTSTART;TZID=Europe/Berlin:20250515T180000
DTEND;TZID=Europe/Berlin:20250531T180000
DTSTAMP:20260422T155910
CREATED:20250515T175536Z
LAST-MODIFIED:20250515T181940Z
UID:9369-1747332000-1748714400@www.bewusstseinszentrum.de
SUMMARY:Online-Kongress: Älter werden-Jünger sein
DESCRIPTION:Am 15. Mai beginnt der Online-Kongress „Sei einfach jung“.\nUnd vielleicht stellst du dir gerade zwei Fragen: \n🔹 Lohnt sich das für mich?\n🔹 Ist es wirklich anders als der übliche Anti-Aging-Kram? \nDie Antwort: Ja. Und ja. \nDenn hier geht es nicht um äußeren Schein – sondern um deine Energie\, Ausstrahlung und Selbstwahrnehmung. \n📌 Es geht um Frauen\, die sich nicht länger mit „Das ist halt das Alter“ zufriedengeben\n📌 Es geht um echte Lösungen\, natürliche Methoden und tiefes Wohlgefühl\n📌 Und es geht um dich – wenn du bereit bist\, dich wieder mit dir selbst zu verbinden \nDu wirst unter anderem erfahren: \n✅ Wie du mit Gesichtsyoga dein Gesicht formst – ohne OP \n✅ Wie du deine Ernährung so umstellst\, dass deine Haut und deine Zellen davon profitieren \n✅ Wie du dein Selbstbild von „zu alt“ zu „strahlend lebendig“ veränderst \n👉 Noch kannst du kostenfrei dabei sein.\n \n🔗 [Hier zur Anmeldung klicken] \nIch freue mich riesig\, wenn du mit uns diesen Raum betrittst – voller Energie\, Wissen und Lebensfreude. \nDu bist nicht zu alt.\nDu bist nicht unsichtbar.\nDu bist eingeladen\, jung zu SEIN.
URL:https://www.bewusstseinszentrum.de/event/online-kongress-aelter-werden-juenger-sein/
LOCATION:Zoom
ATTACH;FMTTYPE=image/jpeg:https://www.bewusstseinszentrum.de/wp-content/uploads/2025/05/Dragica-Quadrat_200.jpg
END:VEVENT
BEGIN:VEVENT
DTSTART;TZID=Europe/Berlin:20250524T093000
DTEND;TZID=Europe/Berlin:20250524T103000
DTSTAMP:20260422T155910
CREATED:20250517T082623Z
LAST-MODIFIED:20250517T082623Z
UID:9381-1748079000-1748082600@www.bewusstseinszentrum.de
SUMMARY:🌿 Alternative Heilmethoden mit Natalie
DESCRIPTION:Ganzheitliche Wege zur Heilung – jenseits der Schulmedizin \nIn diesem kostenfreien Webinar nehme ich dich behutsam mit in die Welt bewährter alternativer Heilmethoden\, die Körper\, Geist und Seele wieder in Einklang bringen. \nDu erfährst mehr über energetische Ansätze\, die Kraft der Pflanzenmedizin und heilsame Rituale\, die du ganz einfach in deinen Alltag integrieren kannst – praxisnah\, tiefgehend und aus dem Herzen. \n✨ Für alle\, die ihren Heilungsweg bewusst\, liebevoll und selbstbestimmt gestalten möchten. \n📅 Samstag\, 24. Mai 2025 um 9:30 Uhr\n📍 Online & kostenfrei \nMelde dich jetzt an und entdecke\, was in dir heilen will. (hier klicken!)
URL:https://www.bewusstseinszentrum.de/event/%f0%9f%8c%bf-alternative-heilmethoden-mit-natalie/
LOCATION:Zoom
ATTACH;FMTTYPE=image/png:https://www.bewusstseinszentrum.de/wp-content/uploads/2025/05/Alternative-Heilmethoden_200.png
END:VEVENT
END:VCALENDAR