BEGIN:VCALENDAR
VERSION:2.0
PRODID:-//Karma-Balance, Problemlösung an der Wurzel - ECPv6.15.20//NONSGML v1.0//EN
CALSCALE:GREGORIAN
METHOD:PUBLISH
X-WR-CALNAME:Karma-Balance, Problemlösung an der Wurzel
X-ORIGINAL-URL:https://www.bewusstseinszentrum.de
X-WR-CALDESC:Veranstaltungen für Karma-Balance, Problemlösung an der Wurzel
REFRESH-INTERVAL;VALUE=DURATION:PT1H
X-Robots-Tag:noindex
X-PUBLISHED-TTL:PT1H
BEGIN:VTIMEZONE
TZID:Europe/Sofia
BEGIN:DAYLIGHT
TZOFFSETFROM:+0200
TZOFFSETTO:+0300
TZNAME:EEST
DTSTART:20240331T010000
END:DAYLIGHT
BEGIN:STANDARD
TZOFFSETFROM:+0300
TZOFFSETTO:+0200
TZNAME:EET
DTSTART:20241027T010000
END:STANDARD
BEGIN:DAYLIGHT
TZOFFSETFROM:+0200
TZOFFSETTO:+0300
TZNAME:EEST
DTSTART:20250330T010000
END:DAYLIGHT
BEGIN:STANDARD
TZOFFSETFROM:+0300
TZOFFSETTO:+0200
TZNAME:EET
DTSTART:20251026T010000
END:STANDARD
BEGIN:DAYLIGHT
TZOFFSETFROM:+0200
TZOFFSETTO:+0300
TZNAME:EEST
DTSTART:20260329T010000
END:DAYLIGHT
BEGIN:STANDARD
TZOFFSETFROM:+0300
TZOFFSETTO:+0200
TZNAME:EET
DTSTART:20261025T010000
END:STANDARD
END:VTIMEZONE
BEGIN:VEVENT
DTSTART;TZID=Europe/Sofia:20250514T180000
DTEND;TZID=Europe/Sofia:20250514T190000
DTSTAMP:20260422T161102
CREATED:20250506T150818Z
LAST-MODIFIED:20250506T154502Z
UID:9310-1747245600-1747249200@www.bewusstseinszentrum.de
SUMMARY:Gratis Coaching mit Tina
DESCRIPTION:✨ Manchmal braucht es nur einen geschützten Raum und eine klare Begleitung.\nTina bietet dir in einem kostenfreien Coaching genau das.\nBring deine Themen mit – sie begleitet dich einfühlsam bei Beziehungen\, Blockaden oder Entscheidungen. 💛 \nHier kannst du dich kostenfrei registrieren (hier klicken!)
URL:https://www.bewusstseinszentrum.de/event/gratis-coaching-mit-tina/
LOCATION:Zoom
ATTACH;FMTTYPE=image/png:https://www.bewusstseinszentrum.de/wp-content/uploads/2025/05/Coching-mit-Tina_200-1.png
END:VEVENT
END:VCALENDAR