BEGIN:VCALENDAR
VERSION:2.0
PRODID:-//Karma-Balance, Problemlösung an der Wurzel - ECPv6.15.20//NONSGML v1.0//EN
CALSCALE:GREGORIAN
METHOD:PUBLISH
X-ORIGINAL-URL:https://www.bewusstseinszentrum.de
X-WR-CALDESC:Veranstaltungen für Karma-Balance, Problemlösung an der Wurzel
REFRESH-INTERVAL;VALUE=DURATION:PT1H
X-Robots-Tag:noindex
X-PUBLISHED-TTL:PT1H
BEGIN:VTIMEZONE
TZID:Europe/Berlin
BEGIN:DAYLIGHT
TZOFFSETFROM:+0100
TZOFFSETTO:+0200
TZNAME:CEST
DTSTART:20240331T010000
END:DAYLIGHT
BEGIN:STANDARD
TZOFFSETFROM:+0200
TZOFFSETTO:+0100
TZNAME:CET
DTSTART:20241027T010000
END:STANDARD
BEGIN:DAYLIGHT
TZOFFSETFROM:+0100
TZOFFSETTO:+0200
TZNAME:CEST
DTSTART:20250330T010000
END:DAYLIGHT
BEGIN:STANDARD
TZOFFSETFROM:+0200
TZOFFSETTO:+0100
TZNAME:CET
DTSTART:20251026T010000
END:STANDARD
BEGIN:DAYLIGHT
TZOFFSETFROM:+0100
TZOFFSETTO:+0200
TZNAME:CEST
DTSTART:20260329T010000
END:DAYLIGHT
BEGIN:STANDARD
TZOFFSETFROM:+0200
TZOFFSETTO:+0100
TZNAME:CET
DTSTART:20261025T010000
END:STANDARD
END:VTIMEZONE
BEGIN:VEVENT
DTSTART;TZID=Europe/Berlin:20250308T080000
DTEND;TZID=Europe/Berlin:20250316T170000
DTSTAMP:20260422T134526
CREATED:20250212T160044Z
LAST-MODIFIED:20250212T163238Z
UID:9282-1741420800-1742144400@www.bewusstseinszentrum.de
SUMMARY:Liebe & Geld verändern die Welt
DESCRIPTION:Der Kongress „Liebe und Geld verändern die Welt“ von Margarete Florschütz \nVom 8. bis 16. März 2025 bekommst du 9 Tage geballtes Wissen\, Erfahrungen\, & Erkenntnisse über Themen\, wie \nVom Schmerz des Mangels\, Überwindung der Ohnmacht nichts tun zu können zu „Komm in Deine Schöpferkraft“! \nMelde dich jetzt kostenfrei an und finde heraus\, wie du in deine Kraft kommst. \nDu erfährst beim Kongress außerdem… \n– wie Liebe und Geld zusammen passt\n– wie du dir ein erfülltes Leben kreieren kannst\n– ob eine Welt ohne Geld möglich ist\n– die universellen Gesetze des Lebens und des Geldes\n– über die natürlichen Netzwerke des Lebens und des Geldes\n– über Numerologie und wie diese als Bedienungsanleitung des Lebens genutzt werden kann \nDu wirst auch viele Lösungen für Probleme bekommen… \n– wie du Mangel und Schuld überwindest\n– wenn innere Blockaden deinen Erfolg verhindern\n– wie du destruktive\, dir nicht dienliche Glaubenssätze und Muster transformieren kannst\n– wie satanische Verdrehungen in der Gesellschaft zu Verwirrung führen und wie du ihnen entkommst\n– wie gestörtes Urvertrauen und die Auswirkungen von Traumata geheilt werden können\n– welche Auswirkungen destruktiver Geldmangel hat und wie daraus konstruktive Lösungen entstehen können\n– wie karmische Blockaden gelöst werden können\, um in Liebe und Fülle leben zu können \nMelde Dich hier kostenfrei an (hier klicken!) \nWas ist\, bist du dabei?
URL:https://www.bewusstseinszentrum.de/event/liebe-und-geld-veraendern-die-welt/
LOCATION:Zoom
ATTACH;FMTTYPE=image/png:https://www.bewusstseinszentrum.de/wp-content/uploads/2025/01/Liebe-und-Geld-veraendern-die-Welt_200.png
END:VEVENT
END:VCALENDAR