BEGIN:VCALENDAR
VERSION:2.0
PRODID:-//Karma-Balance, Problemlösung an der Wurzel - ECPv6.15.20//NONSGML v1.0//EN
CALSCALE:GREGORIAN
METHOD:PUBLISH
X-WR-CALNAME:Karma-Balance, Problemlösung an der Wurzel
X-ORIGINAL-URL:https://www.bewusstseinszentrum.de
X-WR-CALDESC:Veranstaltungen für Karma-Balance, Problemlösung an der Wurzel
REFRESH-INTERVAL;VALUE=DURATION:PT1H
X-Robots-Tag:noindex
X-PUBLISHED-TTL:PT1H
BEGIN:VTIMEZONE
TZID:Europe/Berlin
BEGIN:DAYLIGHT
TZOFFSETFROM:+0100
TZOFFSETTO:+0200
TZNAME:CEST
DTSTART:20240331T010000
END:DAYLIGHT
BEGIN:STANDARD
TZOFFSETFROM:+0200
TZOFFSETTO:+0100
TZNAME:CET
DTSTART:20241027T010000
END:STANDARD
BEGIN:DAYLIGHT
TZOFFSETFROM:+0100
TZOFFSETTO:+0200
TZNAME:CEST
DTSTART:20250330T010000
END:DAYLIGHT
BEGIN:STANDARD
TZOFFSETFROM:+0200
TZOFFSETTO:+0100
TZNAME:CET
DTSTART:20251026T010000
END:STANDARD
BEGIN:DAYLIGHT
TZOFFSETFROM:+0100
TZOFFSETTO:+0200
TZNAME:CEST
DTSTART:20260329T010000
END:DAYLIGHT
BEGIN:STANDARD
TZOFFSETFROM:+0200
TZOFFSETTO:+0100
TZNAME:CET
DTSTART:20261025T010000
END:STANDARD
END:VTIMEZONE
BEGIN:VEVENT
DTSTART;TZID=Europe/Berlin:20250227T170000
DTEND;TZID=Europe/Berlin:20250227T180000
DTSTAMP:20260422T122507
CREATED:20250202T150642Z
LAST-MODIFIED:20250202T150642Z
UID:9253-1740675600-1740679200@www.bewusstseinszentrum.de
SUMMARY:Liebe und fürchte Dich nicht
DESCRIPTION:Die Stunde ist jetzt und der Weg führt dich in deine wahre Essenz. \nWir stehen an der Schwelle eines Bewusstseinswandels – der Kampf zwischen Angst und Liebe ist keine äußere Schlacht\, sondern eine Entscheidung in dir. Welche Wahl triffst du? \n💫 Erinnere dich: CHRISTUS IN DIR in deinem Herzen.\n💫 Erkenne: Die Trennung ist Illusion\n💫 Empfange: Die Wahrheit ist in dir „Sei still und wisse\, ich bin Gott in dir“ \nJetzt ist die Zeit\, alte Illusionen zu durchbrechen und dein wahres Selbst zu erkennen. \nBist du bereit\, diesen Schritt zu gehen? Melde dich jetzt an und werde Teil dieser tiefgehenden Erkenntnisreise. \n👉 Jetzt anmelden (hier klicken zur kostenfreien Registrierung) \nIch freue mich auf dich!\nHerzlichst\,\nDragica 💫✨
URL:https://www.bewusstseinszentrum.de/event/liebe-und-fuerchte-dich-nicht/
LOCATION:Zoom
ATTACH;FMTTYPE=image/png:https://www.bewusstseinszentrum.de/wp-content/uploads/2025/02/Liebe-und-fuerchte-Dich-nicht_800-e1738508743932.png
END:VEVENT
END:VCALENDAR